BEGIN:VCALENDAR
VERSION:2.0
PRODID:-//AudioTheme 2.3.0
BEGIN:VEVENT
UID:urn:uuid:8e32cef6-7b14-46a8-978f-4911eeda2026
URL:https://www.ronanskillen.com/shows/neil-sandilands-band/
DTSTART;TZID=GMT:20230908T173000
SUMMARY:Neil Sandilands Band
LOCATION:Die Boer Restaurant Durbanville\, 6 Chenoweth Street\, Durbanville\, WC\, South Africa\, 7551
END:VEVENT
END:VCALENDAR
