BEGIN:VCALENDAR
VERSION:2.0
PRODID:-//AudioTheme 2.3.0
BEGIN:VEVENT
UID:urn:uuid:c6e69952-ae77-45f2-815d-cd39ba7c813d
URL:https://www.ronanskillen.com/shows/neil-sandilands-band-winter-tour-8/
DTSTART;TZID=GMT:20230712T180000
SUMMARY:Neil Sandilands Band - Winter Tour
LOCATION:Dozi Music\, undefined undefined\, Hartbeespoort\, NW\, South Africa\, 0216
END:VEVENT
END:VCALENDAR
