BEGIN:VCALENDAR
VERSION:2.0
PRODID:-//AudioTheme 2.3.0
BEGIN:VEVENT
UID:urn:uuid:0d3800bd-2d0d-486e-8d13-08e3ec22ced1
URL:https://www.ronanskillen.com/shows/neil-sandilands-band-winter-tour-16/
DTSTART;VALUE=DATE:20230721
SUMMARY:Neil Sandilands Band - Winter Tour
LOCATION:Rustique Boutique Hotel\, undefined undefined\, \, MP\, South Africa\, 1050
END:VEVENT
END:VCALENDAR
