BEGIN:VCALENDAR
VERSION:2.0
PRODID:-//AudioTheme 2.3.0
BEGIN:VEVENT
UID:urn:uuid:fdc0cf13-146d-47b1-b3b6-5bb1661250a5
URL:https://www.ronanskillen.com/shows/neil-sandilands-band-winter-tour-15/
DTSTART;TZID=GMT:20230720T180000
SUMMARY:Neil Sandilands Band - Winter Tour
LOCATION:Sessions Music Lounge\, undefined undefined\, Dullstroom\, MP\, South Africa\, 1110
END:VEVENT
END:VCALENDAR
