BEGIN:VCALENDAR
VERSION:2.0
PRODID:-//AudioTheme 2.3.0
BEGIN:VEVENT
UID:urn:uuid:aa3a0ab5-9b7d-4c65-9abe-75b7818ff30b
URL:https://www.ronanskillen.com/shows/neil-sandilands-band-winter-tour-14/
DTSTART;TZID=GMT:20230719T180000
SUMMARY:Neil Sandilands Band - Winter Tour
LOCATION:Fairview Hotel\, Spa and Golf Resort\, undefined undefined\, Tzaneen\, LP\, South Africa\, 0850
END:VEVENT
END:VCALENDAR
