BEGIN:VCALENDAR
VERSION:2.0
PRODID:-//AudioTheme 2.3.0
BEGIN:VEVENT
UID:urn:uuid:f2013032-7a7e-4f84-9abb-f5fb6adab09f
URL:https://www.ronanskillen.com/shows/neil-sandilands-band-winter-tour-13/
DTSTART;TZID=GMT:20230718T180000
SUMMARY:Neil Sandilands Band - Winter Tour
LOCATION:Olifant Oasis\, undefined undefined\, \, LP\, South Africa\, 0506
END:VEVENT
END:VCALENDAR
