BEGIN:VCALENDAR
VERSION:2.0
PRODID:-//AudioTheme 2.3.0
BEGIN:VEVENT
UID:urn:uuid:6d1a4974-a714-44d2-bae0-e688e03b5c25
URL:https://www.ronanskillen.com/shows/neil-sandilands-band-winter-tour-12/
DTSTART;TZID=GMT:20230716T173000
SUMMARY:Neil Sandilands Band - Winter Tour
LOCATION:The Hogfather Pub & Porkery\, undefined Zanspruit Boulevard\, Hoedspruit\, LP\, South Africa\, 1380
END:VEVENT
END:VCALENDAR
