BEGIN:VCALENDAR
VERSION:2.0
PRODID:-//AudioTheme 2.3.0
BEGIN:VEVENT
UID:urn:uuid:d15a470d-caad-48cc-952e-7d1fa83e79d1
URL:https://www.ronanskillen.com/shows/neil-sandilands-band-winter-tour-11/
DTSTART;TZID=GMT:20230715T180000
SUMMARY:Neil Sandilands Band - Winter Tour
LOCATION:Nagkantoor- Kaapsehoop Kuierkroeg\, undefined Kantoor Street\, Kaapschehoop\, MP\, South Africa\, 1209
END:VEVENT
END:VCALENDAR
