BEGIN:VCALENDAR
VERSION:2.0
PRODID:-//AudioTheme 2.3.0
BEGIN:VEVENT
UID:urn:uuid:a1a605c6-7e34-44fb-a6ea-a8e3a8befe1c
URL:https://www.ronanskillen.com/shows/neil-sandilands-band-winter-tour-10/
DTSTART;TZID=GMT:20230714T173000
SUMMARY:Neil Sandilands Band - Winter Tour
LOCATION:The Pub\, 10 Jones Street\, Mbombela\, MP\, South Africa\, 1201
END:VEVENT
END:VCALENDAR
