BEGIN:VCALENDAR
VERSION:2.0
PRODID:-//AudioTheme 2.3.0
BEGIN:VEVENT
UID:urn:uuid:c1444103-8d7a-4dd1-98a5-2725543db074
URL:https://www.ronanskillen.com/shows/neil-sandilands-band-4/
DTSTART;TZID=GMT:20230929T180000
SUMMARY:Neil Sandilands Band
LOCATION:Die Moskan Plaasteater\, undefined undefined\, Robertson\, WC\, South Africa\, 6705
END:VEVENT
END:VCALENDAR
