BEGIN:VCALENDAR
VERSION:2.0
PRODID:-//AudioTheme 2.3.0
BEGIN:VEVENT
UID:urn:uuid:b4d359a1-b3be-432c-9454-0dcf315f85c3
URL:https://www.ronanskillen.com/shows/neil-sandilands-band-3/
DTSTART;TZID=GMT:20231012T173000
SUMMARY:Neil Sandilands Band
LOCATION:The Daisy Jones Bar at OMG\, undefined undefined\, Stellenbosch\, WC\, South Africa\, 7615
END:VEVENT
END:VCALENDAR
