BEGIN:VCALENDAR
VERSION:2.0
PRODID:-//AudioTheme 2.3.0
BEGIN:VEVENT
UID:urn:uuid:a2579560-ae48-44b6-9876-1f8657c594c5
URL:https://www.ronanskillen.com/shows/ingrid-lukas-band-seebach-sphere-sounds/
DTSTART;TZID=GMT:20231022T170000
SUMMARY:Ingrid Lukas Band - Seebach Sphere Sounds
LOCATION:Buhnrain 30\, Seebach\, Zürich\, ZH\, Switzerland
END:VEVENT
END:VCALENDAR
