BEGIN:VCALENDAR
VERSION:2.0
PRODID:-//AudioTheme 2.3.0
BEGIN:VEVENT
UID:urn:uuid:3643980f-14ea-489c-b541-e8c887ea841b
URL:https://www.ronanskillen.com/shows/ingrid-lukas-band-9/
DTSTART;TZID=GMT:20230922T183000
SUMMARY:Ingrid Lukas Band
LOCATION:Spielbar\, 46-60 Langstrasse\, Zürich\, ZH\, Switzerland\, 8004
END:VEVENT
END:VCALENDAR
