BEGIN:VCALENDAR
VERSION:2.0
PRODID:-//AudioTheme 2.3.0
BEGIN:VEVENT
UID:urn:uuid:d3cfb5b3-550f-4769-87ec-5b767ed08150
URL:https://www.ronanskillen.com/shows/ingrid-lukas-band-8/
DTSTART;TZID=GMT:20230915T170000
SUMMARY:Ingrid Lukas Band
LOCATION:Bricks and Sounds Festival - Aarau\, Aarau\, AG\, Switzerland
END:VEVENT
END:VCALENDAR
