BEGIN:VCALENDAR
VERSION:2.0
PRODID:-//AudioTheme 2.3.0
BEGIN:VEVENT
UID:urn:uuid:cf33d21c-fb3b-4871-a7f2-cc7920c3da50
URL:https://www.ronanskillen.com/shows/ingrid-lukas-band-15/
DTSTART;TZID=GMT:20241214T180000
SUMMARY:Ingrid Lukas Band
DESCRIPTION:Tickets at the door.
LOCATION:Buhnrain 30\, Seebach\, Zürich\, ZH\, Switzerland
END:VEVENT
END:VCALENDAR
