BEGIN:VCALENDAR
VERSION:2.0
PRODID:-//AudioTheme 2.3.0
BEGIN:VEVENT
UID:urn:uuid:a520b434-3393-48a6-9929-bb34a6296ec4
URL:https://www.ronanskillen.com/shows/ingrid-lukas-band-14/
DTSTART;TZID=GMT:20241020T160000
SUMMARY:Ingrid Lukas Band
DESCRIPTION:Tickets at the door.
LOCATION:Buhnrain 30\, Seebach\, Zürich\, ZH\, Switzerland
END:VEVENT
END:VCALENDAR
