BEGIN:VCALENDAR
VERSION:2.0
PRODID:-//AudioTheme 2.3.0
BEGIN:VEVENT
UID:urn:uuid:aa892d0e-e666-41e0-8a25-30848a8cb010
URL:https://www.ronanskillen.com/shows/ingrid-lukas-band-13/
DTSTART;TZID=GMT:20240929T160000
SUMMARY:Ingrid Lukas Band
DESCRIPTION:Tickets at the door 
LOCATION:Buhnrain 30\, Seebach\, Zürich\, ZH\, Switzerland
END:VEVENT
END:VCALENDAR
