BEGIN:VCALENDAR
VERSION:2.0
PRODID:-//AudioTheme 2.3.0
BEGIN:VEVENT
UID:urn:uuid:ac37de04-03a1-4a25-a084-efb2ee2aaa9e
URL:https://www.ronanskillen.com/shows/ingrid-lukas-band-12/
DTSTART;TZID=GMT:20240818T190000
SUMMARY:Ingrid Lukas Band
LOCATION:Ruhnu Rahu Festival\, Estonia
END:VEVENT
END:VCALENDAR
