BEGIN:VCALENDAR
VERSION:2.0
PRODID:-//AudioTheme 2.3.0
BEGIN:VEVENT
UID:urn:uuid:2c9aa734-9a27-4cbf-bcf5-3ba6a775e6c2
URL:https://www.ronanskillen.com/shows/ingrid-lukas-band-10/
DTSTART;TZID=GMT:20231027T140000
SUMMARY:Ingrid Lukas Band
LOCATION:Swiss TV\, Lugano\, TI\, Switzerland
END:VEVENT
END:VCALENDAR
