BEGIN:VCALENDAR
VERSION:2.0
PRODID:-//AudioTheme 2.3.0
BEGIN:VEVENT
UID:urn:uuid:858e9c04-170f-4ed1-8cb4-0352d0ff17c0
URL:https://www.ronanskillen.com/shows/heritage-day-concert-zolani-mahola/
DTSTART;TZID=GMT:20250924T170000
SUMMARY:Heritage Day Concert - Zolani Mahola
LOCATION:Mojo Market\, 30 Regent Road\, Cape Town\, WC\, South Africa\, 8060
END:VEVENT
END:VCALENDAR
