BEGIN:VCALENDAR
VERSION:2.0
PRODID:-//AudioTheme 2.3.0
BEGIN:VEVENT
UID:urn:uuid:24c35da5-99cb-453a-85dc-e910a217e633
URL:https://www.ronanskillen.com/shows/gong-sound-artist-yin-xiong-with-ronan-skillen/
DTSTART;TZID=GMT:20231203T163000
SUMMARY:Gong Sound Artist Yin Xiong with Ronan Skillen
LOCATION:Novalis Centre\, Cape Town
END:VEVENT
END:VCALENDAR
