BEGIN:VCALENDAR
VERSION:2.0
PRODID:-//AudioTheme 2.3.0
BEGIN:VEVENT
UID:urn:uuid:5d14d550-25eb-494b-b20c-ee14eabcdbd2
URL:https://www.ronanskillen.com/shows/gig-1802/
DTSTART;TZID=GMT:20230722T123000
SUMMARY:Etienne Rousseau Theatre
LOCATION:Etienne Rousseau Theatre\, 8 John Vorster Avenue\, Sasolburg\, FS\, South Africa\, 1947
END:VEVENT
END:VCALENDAR
