BEGIN:VCALENDAR
VERSION:2.0
PRODID:-//AudioTheme 2.3.0
BEGIN:VEVENT
UID:urn:uuid:43badaee-766d-44d8-b01f-4dac0eca56b7
URL:https://www.ronanskillen.com/shows/edi-niederlander-trio-3/
DTSTART;TZID=GMT:20230809T170000
SUMMARY:Edi Niederlander Trio
LOCATION:Alma Cafe\, Rosebank\, SA
END:VEVENT
END:VCALENDAR
