BEGIN:VCALENDAR
VERSION:2.0
PRODID:-//AudioTheme 2.3.0
BEGIN:VEVENT
UID:urn:uuid:63030951-6255-44d5-b8e4-c7caa23c5722
URL:https://www.ronanskillen.com/shows/amafranx-bosboogie/
DTSTART;TZID=GMT:20230825T193000
SUMMARY:Amafranx - BosBoogie
LOCATION:Bos Boogie Music Festival\, 131 Rif Road\, Pretoria\, GP\, South Africa\, 0035
END:VEVENT
END:VCALENDAR
